BEGIN:VCALENDAR
VERSION:2.0
PRODID: -//Q4 Inc.//EN
METHOD:PUBLISH
BEGIN:VTIMEZONE
TZID:America/New_York
X-LIC-LOCATION:America/New_York
BEGIN:DAYLIGHT
TZOFFSETFROM:-0500
TZOFFSETTO:-0400
TZNAME:EDT
DTSTART:19700308T020000
RRULE:FREQ=YEARLY;BYMONTH=3;BYDAY=2SU
END:DAYLIGHT
BEGIN:STANDARD
TZOFFSETFROM:-0400
TZOFFSETTO:-0500
TZNAME:EST
DTSTART:19701101T020000
RRULE:FREQ=YEARLY;BYMONTH=11;BYDAY=1SU
END:STANDARD
END:VTIMEZONE
BEGIN:VEVENT
ORGANIZER:MAILTO:sesai@icrinc.com
DTSTART;TZID="America/New_York":20260423T170000
DTEND;TZID="America/New_York":20260423T180000
LOCATION:
UID:b1e4b66e-9dcc-4875-a85f-761a3530cd1d
DTSTAMP:20260424T131107
SUMMARY:SES First Quarter 2026 Business and Financial Results
DESCRIPTION: View More Information: https://investors.ses.ai/events-and-presentations/events/event-details/2026/SES-First-Quarter-2026-Business-and-Financial-Results/default.aspx
URL;VALUE=URI:https://investors.ses.ai/events-and-presentations/events/event-details/2026/SES-First-Quarter-2026-Business-and-Financial-Results/default.aspx
PRIORITY:5
CLASS:PUBLIC
END:VEVENT
END:VCALENDAR
